Workbook

Sheet I сторінка
A1: Бердянський державний педагогічний університет
A2: Картка навчального навантаження (науково-педагогічного/педагогічного) працівника на 2026-2027 навчальний рік
T3: Годин за планом | AC3: ставки
I4: кафедра | T4: Затверджено наказом № ______ по університету
A5: прізвище, ім'я, по батькові | T5: від | U5: ''____'' ______________20__ р.
T6: ПОГОДЖЕНО:
T7: Декан | V7: Ім'я ПРІЗВИЩЕ
A8: (вчений ступінь, звання) | D8: (посада) | L8: штатний/сумісник | T8: Декан | V8: Ім'я ПРІЗВИЩЕ
A11: Семестр | B11: Назва освітньої компоненти, виду навчальної діяльності | C11: Спеціальність (факультет) | D11: Курс | E11: Кількість здобувачів, аспірантів | F11: Шифр груп | I11: Кількість | M11: Кількість запланованих годин за видами роботи
I12: груп | J12: підгруп | K12: потоків | L12: Форма здобуття освіти (денна, заочна) | M12: лекції | N12: лабораторні (індивідуальні) заняття | O12: практичні, семінарські заняття | P12: консультації з самостійної роботи | Q12: курсові роботи | R12: заліки | S12: консультації перед екзаменом | T12: екзамени | U12: кваліфікаційні роботи | V12: підсумкова атестація | W12: керівництво аспірантами | X12: виробнича практика | Y12: навчальна практика | Z12: контрольні відвідування | AA12: разом | AC12: Всього
AA13: денна форма здобуття освіти | AB13: заочна форма здобуття освіти
A14: І | AA14: =IF(L14="д",SUM(M14:Z14),"") | AB14: =IF(L14="з",SUM(M14:Z14),"") | AC14: =IF(SUM(M14:Z14)=0,"",SUM(M14:Z14))
AA15: =IF(L15="д",SUM(M15:Z15),"") | AB15: =IF(L15="з",SUM(M15:Z15),"") | AC15: =IF(SUM(M15:Z15)=0,"",SUM(M15:Z15))
AA16: =IF(L16="д",SUM(M16:Z16),"") | AB16: =IF(L16="з",SUM(M16:Z16),"") | AC16: =IF(SUM(M16:Z16)=0,"",SUM(M16:Z16))
AA17: =IF(L17="д",SUM(M17:Z17),"") | AB17: =IF(L17="з",SUM(M17:Z17),"") | AC17: =IF(SUM(M17:Z17)=0,"",SUM(M17:Z17))
AA18: =IF(L18="д",SUM(M18:Z18),"") | AB18: =IF(L18="з",SUM(M18:Z18),"") | AC18: =IF(SUM(M18:Z18)=0,"",SUM(M18:Z18))
AA19: =IF(L19="д",SUM(M19:Z19),"") | AB19: =IF(L19="з",SUM(M19:Z19),"") | AC19: =IF(SUM(M19:Z19)=0,"",SUM(M19:Z19))
AA20: =IF(L20="д",SUM(M20:Z20),"") | AB20: =IF(L20="з",SUM(M20:Z20),"") | AC20: =IF(SUM(M20:Z20)=0,"",SUM(M20:Z20))
AA21: =IF(L21="д",SUM(M21:Z21),"") | AB21: =IF(L21="з",SUM(M21:Z21),"") | AC21: =IF(SUM(M21:Z21)=0,"",SUM(M21:Z21))
AA22: =IF(L22="д",SUM(M22:Z22),"") | AB22: =IF(L22="з",SUM(M22:Z22),"") | AC22: =IF(SUM(M22:Z22)=0,"",SUM(M22:Z22))
L23: Форма здобуття освіти (денна, заочна) | M23: лекції | N23: лабораторні (індивідуальні) заняття | O23: практичні, семінарські заняття | P23: консультації з самостійної роботи | Q23: курсові роботи | R23: заліки | S23: консультації перед екзаменом | T23: екзамени | U23: кваліфікаційні роботи | V23: підсумкова атестація | W23: керівництво аспірантами | X23: виробнича практика | Y23: навчальна практика | Z23: контрольні відвідування
A25: Разом годин на І семестр | M25: =IF(SUM(M14:M22)=0,"",SUM(M14:M22)) | N25: =IF(SUM(N14:N22)=0,"",SUM(N14:N22)) | O25: =IF(SUM(O14:O22)=0,"",SUM(O14:O22)) | P25: =IF(SUM(P14:P22)=0,"",SUM(P14:P22)) | Q25: =IF(SUM(Q14:Q22)=0,"",SUM(Q14:Q22)) | R25: =IF(SUM(R14:R22)=0,"",SUM(R14:R22)) | S25: =IF(SUM(S14:S22)=0,"",SUM(S14:S22)) | T25: =IF(SUM(T14:T22)=0,"",SUM(T14:T22)) | ... AC25: =IF(SUM(AC14:AC22)=0,"",SUM(AC14:AC22))
A26: ІІ | AA26: =IF(L26="д",SUM(M26:Z26),"") | AB26: =IF(L26="з",SUM(M26:Z26),"") | AC26: =IF(SUM(M26:Z26)=0,"",SUM(M26:Z26))
AA28: =IF(L28="д",SUM(M28:Z28),"") | AB28: =IF(L28="з",SUM(M28:Z28),"") | AC28: =IF(SUM(M28:Z28)=0,"",SUM(M28:Z28))
AA32: =IF(L32="д",SUM(M32:Z32),"") | AB32: =IF(L32="з",SUM(M32:Z32),"") | AC32: =IF(SUM(M32:Z32)=0,"",SUM(M32:Z32))
A33: Разом годин на ІІ семестр | M33: =IF(SUM(M26:M32)=0,"",SUM(M26:M32)) | N33: =IF(SUM(N26:N32)=0,"",SUM(N26:N32)) | O33: =IF(SUM(O26:O32)=0,"",SUM(O26:O32)) | P33: =IF(SUM(P26:P32)=0,"",SUM(P26:P32)) | Q33: =IF(SUM(Q26:Q32)=0,"",SUM(Q26:Q32)) | R33: =IF(SUM(R26:R32)=0,"",SUM(R26:R32)) | S33: =IF(SUM(S26:S32)=0,"",SUM(S26:S32)) | T33: =IF(SUM(T26:T32)=0,"",SUM(T26:T32)) | ... AC33: =IF(SUM(AC26:AC32)=0,"",SUM(AC26:AC32))
A34: Годин на навчальний рік | M34: =IF(SUM(M25,M33)=0,"",SUM(M25,M33)) | N34: =IF(SUM(N25,N33)=0,"",SUM(N25,N33)) | O34: =IF(SUM(O25,O33)=0,"",SUM(O25,O33)) | P34: =IF(SUM(P25,P33)=0,"",SUM(P25,P33)) | Q34: =IF(SUM(Q25,Q33)=0,"",SUM(Q25,Q33)) | R34: =IF(SUM(R25,R33)=0,"",SUM(R25,R33)) | S34: =IF(SUM(S25,S33)=0,"",SUM(S25,S33)) | T34: =IF(SUM(T25,T33)=0,"",SUM(T25,T33)) | ... AC34: =IF(SUM(AC25,AC33)=0,"",SUM(AC25,AC33))
B35: Зав.кафедрою | C35: Ім'я ПРІЗВИЩЕ | Q35: Викладач | R35: =B4 -> 0

Sheet II сторінка
A1: Облік виконання навчального навантаження (науково-педагогічного / педагогічного) працівника за 2026 / 2027 н.р.
A2: ='I сторінка'!D7&","&" "&'I сторінка'!B4 -> ,
A3: (посада, прізвище та ініціали викладача)
A4: Семестр | B4: Виконання годин по місяцях | C4: Кількість запланованих годин за видами роботи
C5: ='I сторінка'!M12 -> лекції | E5: ='I сторінка'!N12 -> лабораторні (індивідуальні) заняття | G5: ='I сторінка'!O12 -> практичні, семінарські заняття | I5: ='I сторінка'!P12 -> консультації з самостійної роботи | K5: ='I сторінка'!Q12 -> курсові роботи | M5: ='I сторінка'!R12 -> заліки | O5: ='I сторінка'!S12 -> консультації перед екзаменом | Q5: ='I сторінка'!T12 -> екзамени | S5: ='I сторінка'!U12 -> кваліфікаційні роботи | U5: ='I сторінка'!V12 -> підсумкова атестація | W5: ='I сторінка'!W12 -> керівництво аспірантами | Y5: ='I сторінка'!X12 -> виробнича практика | AA5: ='I сторінка'!Y12 -> навчальна практика | AC5: ='I сторінка'!Z12 -> контрольні відвідування | AE5: разом | AG5: Всього
AE6: денна форма здобуття освіти | AF6: заочна форма здобуття освіти
C7: Форма здобуття освіти (денна, заочна) | D7: Форма здобуття освіти (денна, заочна) | E7: Форма здобуття освіти (денна, заочна) | F7: Форма здобуття освіти (денна, заочна) | G7: Форма здобуття освіти (денна, заочна) | H7: Форма здобуття освіти (денна, заочна) | I7: Форма здобуття освіти (денна, заочна) | J7: Форма здобуття освіти (денна, заочна) | K7: Форма здобуття освіти (денна, заочна) | L7: Форма здобуття освіти (денна, заочна) | M7: Форма здобуття освіти (денна, заочна) | N7: Форма здобуття освіти (денна, заочна) | O7: Форма здобуття освіти (денна, заочна) | P7: Форма здобуття освіти (денна, заочна) | Q7: Форма здобуття освіти (денна, заочна) | R7: Форма здобуття освіти (денна, заочна) | S7: Форма здобуття освіти (денна, заочна) | T7: Форма здобуття освіти (денна, заочна) | U7: Форма здобуття освіти (денна, заочна) | V7: Форма здобуття освіти (денна, заочна) | W7: Форма здобуття освіти (денна, заочна) | X7: Форма здобуття освіти (денна, заочна) | Y7: Форма здобуття освіти (денна, заочна) | Z7: Форма здобуття освіти (денна, заочна) | AA7: Форма здобуття освіти (денна, заочна) | AB7: Форма здобуття освіти (денна, заочна) | AC7: Форма здобуття освіти (денна, заочна) | AD7: Форма здобуття освіти (денна, заочна)
C8: д | D8: з | E8: д | F8: з | G8: д | H8: з | I8: д | J8: з | K8: д | L8: з | M8: д | N8: з | O8: д | P8: з | Q8: д | R8: з | S8: д | T8: з | U8: д | V8: з | W8: д | X8: з | Y8: д | Z8: з | AA8: д | AB8: з | AC8: д | AD8: з
A9: І | B9: Заплановано на І півріччя | C9: =DSUM('I сторінка'!$L$12:$Z$22,C5,$C$7:$C$8) -> 0 | D9: =DSUM('I сторінка'!$L$12:$Z$22,$C$5,D7:D8) -> 0 | E9: =DSUM('I сторінка'!$L$12:$Z$22,$E$5,$E$7:$E$8) -> 0 | F9: =DSUM('I сторінка'!$L$12:$Z$22,$E$5,F7:F8) -> 0 | G9: =DSUM('I сторінка'!$L$12:$Z$22,$G$5,G7:G8) -> 0 | H9: =DSUM('I сторінка'!$L$12:$Z$22,$G$5,H7:H8) -> 0 | I9: =DSUM('I сторінка'!$L$12:$Z$22,$I$5,I7:I8) -> 0 | J9: =DSUM('I сторінка'!$L$12:$Z$22,$I$5,J7:J8) -> 0 | K9: =DSUM('I сторінка'!$L$12:$Z$22,$K$5,K7:K8) -> 0 | L9: =DSUM('I сторінка'!$L$12:$Z$22,$K$5,L7:L8) -> 0 | M9: =DSUM('I сторінка'!$L$12:$Z$22,$M$5,M7:M8) -> 0 | N9: =DSUM('I сторінка'!$L$12:$Z$22,$M$5,N7:N8) -> 0 | O9: =DSUM('I сторінка'!$L$12:$Z$22,$O$5,O7:O8) -> 0 | P9: =DSUM('I сторінка'!$L$12:$Z$22,$O$5,P7:P8) -> 0 | Q9: =DSUM('I сторінка'!$L$12:$Z$22,$Q$5,Q7:Q8) -> 0 | R9: =DSUM('I сторінка'!$L$12:$Z$22,$Q$5,R7:R8) -> 0 | S9: =DSUM('I сторінка'!$L$12:$Z$22,$S$5,S7:S8) -> 0 | T9: =DSUM('I сторінка'!$L$12:$Z$22,$S$5,T7:T8) -> 0 | U9: =DSUM('I сторінка'!$L$12:$Z$22,$U$5,U7:U8) -> 0 | V9: =DSUM('I сторінка'!$L$12:$Z$22,$U$5,V7:V8) -> 0 | W9: =DSUM('I сторінка'!$L$12:$Z$22,$W$5,W7:W8) -> 0 | X9: =DSUM('I сторінка'!$L$12:$Z$22,$W$5,X7:X8) -> 0 | Y9: =DSUM('I сторінка'!$L$12:$Z$22,$Y$5,Y7:Y8) -> 0 | Z9: =DSUM('I сторінка'!$L$12:$Z$22,$Y$5,Z7:Z8) -> 0 | AA9: =DSUM('I сторінка'!$L$12:$Z$22,$AA$5,AA7:AA8) -> 0 | AB9: =DSUM('I сторінка'!$L$12:$Z$22,$AA$5,AB7:AB8) -> 0 | AC9: =DSUM('I сторінка'!$L$12:$Z$22,$AC$5,AC7:AC8) -> 0 | AD9: =DSUM('I сторінка'!$L$12:$Z$22,$AC$5,AD7:AD8) -> 0 | AE9: =C9+E9+G9+I9+K9+M9+O9+Q9+S9+U9+W9+AA9+AC9+Y9 -> 0 | AF9: =D9+F9+H9+J9+L9+N9+P9+R9+T9+V9+Z9+X9+AB9+AD9 -> 0 | AG9: =AE9+AF9 -> 0
B10: за серпень | AE10: =C10+E10+G10+I10+K10+M10+O10+Q10+S10+U10+Y10+W10+AA10+AC10 -> 0 | AF10: =D10+F10+H10+J10+L10+N10+P10+R10+T10+V10+Z10+X10+AB10+AD10 -> 0 | AG10: =AE10+AF10 -> 0
B11: за вересень | AE11: =C11+E11+G11+I11+K11+M11+O11+Q11+S11+U11+Y11+W11+AA11+AC11 -> 0 | AF11: =D11+F11+H11+J11+L11+N11+P11+R11+T11+V11+Z11+X11+AB11+AD11 -> 0 | AG11: =AE11+AF11 -> 0
B12: за жовтень | AE12: =C12+E12+G12+I12+K12+M12+O12+Q12+S12+U12+Y12+W12+AA12+AC12 -> 0 | AF12: =D12+F12+H12+J12+L12+N12+P12+R12+T12+V12+Z12+X12+AB12+AD12 -> 0 | AG12: =AE12+AF12 -> 0
B13: за листопад | AE13: =C13+E13+G13+I13+K13+M13+O13+Q13+S13+U13+Y13+W13+AA13+AC13 -> 0 | AF13: =D13+F13+H13+J13+L13+N13+P13+R13+T13+V13+Z13+X13+AB13+AD13 -> 0 | AG13: =AE13+AF13 -> 0
B14: за грудень | AE14: =C14+E14+G14+I14+K14+M14+O14+Q14+S14+U14+Y14+W14+AA14+AC14 -> 0 | AF14: =D14+F14+H14+J14+L14+N14+P14+R14+T14+V14+Z14+X14+AB14+AD14 -> 0 | AG14: =AE14+AF14 -> 0
B15: за січень | AE15: =C15+E15+G15+I15+K15+M15+O15+Q15+S15+U15+Y15+W15+AA15+AC15 -> 0 | AF15: =D15+F15+H15+J15+L15+N15+P15+R15+T15+V15+Z15+X15+AB15+AD15 -> 0 | AG15: =AE15+AF15 -> 0
A16: Разом | C16: =IF(SUM(C10:C15)=0,"",SUM(C10:C15)) | D16: =IF(SUM(D10:D15)=0,"",SUM(D10:D15)) | E16: =IF(SUM(E10:E15)=0,"",SUM(E10:E15)) | F16: =IF(SUM(F10:F15)=0,"",SUM(F10:F15)) | G16: =IF(SUM(G10:G15)=0,"",SUM(G10:G15)) | H16: =IF(SUM(H10:H15)=0,"",SUM(H10:H15)) | I16: =IF(SUM(I10:I15)=0,"",SUM(I10:I15)) | J16: =IF(SUM(J10:J15)=0,"",SUM(J10:J15)) | ... AD16: =IF(SUM(AD10:AD15)=0,"",SUM(AD10:AD15)) | AE16: =SUM(AE10:AE15) -> 0 | AF16: =SUM(AF10:AF15) -> 0 | AG16: =SUM(AG10:AG15) -> 0
A17: ІІ | B17: Заплановано на ІІ півріччя | C17: =DSUM('I сторінка'!$L$23:$Z$32,$C$5,C7:C8) -> 0 | D17: =DSUM('I сторінка'!$L$23:$Z$32,$C$5,D7:D8) -> 0 | E17: =DSUM('I сторінка'!$L$23:$Z$32,$E$5,E7:E8) -> 0 | F17: =DSUM('I сторінка'!$L$23:$Z$32,$E$5,F7:F8) -> 0 | G17: =DSUM('I сторінка'!$L$23:$Z$32,$G$5,G7:G8) -> 0 | H17: =DSUM('I сторінка'!$L$23:$Z$32,$G$5,H7:H8) -> 0 | I17: =DSUM('I сторінка'!$L$23:$Z$32,$I$5,I7:I8) -> 0 | J17: =DSUM('I сторінка'!$L$23:$Z$32,$I$5,J7:J8) -> 0 | K17: =DSUM('I сторінка'!$L$23:$Z$32,$K$5,K7:K8) -> 0 | L17: =DSUM('I сторінка'!$L$23:$Z$32,$K$5,L7:L8) -> 0 | M17: =DSUM('I сторінка'!$L$23:$Z$32,$M$5,M7:M8) -> 0 | N17: =DSUM('I сторінка'!$L$23:$Z$32,$M$5,N7:N8) -> 0 | O17: =DSUM('I сторінка'!$L$23:$Z$32,$O$5,O7:O8) -> 0 | P17: =DSUM('I сторінка'!$L$23:$Z$32,$O$5,P7:P8) -> 0 | Q17: =DSUM('I сторінка'!$L$23:$Z$32,$Q$5,Q7:Q8) -> 0 | R17: =DSUM('I сторінка'!$L$23:$Z$32,$Q$5,R7:R8) -> 0 | S17: =DSUM('I сторінка'!$L$23:$Z$32,$S$5,S7:S8) -> 0 | T17: =DSUM('I сторінка'!$L$23:$Z$32,$S$5,T7:T8) -> 0 | U17: =DSUM('I сторінка'!$L$23:$Z$32,$U$5,U7:U8) -> 0 | V17: =DSUM('I сторінка'!$L$23:$Z$32,$U$5,V7:V8) -> 0 | W17: =DSUM('I сторінка'!$L$23:$Z$32,$W$5,W7:W8) -> 0 | X17: =DSUM('I сторінка'!$L$23:$Z$32,$W$5,X7:X8) -> 0 | Y17: =DSUM('I сторінка'!$L$23:$Z$32,$Y$5,Y7:Y8) -> 0 | Z17: =DSUM('I сторінка'!$L$23:$Z$32,$Y$5,Z7:Z8) -> 0 | AA17: =DSUM('I сторінка'!$L$23:$Z$32,$AA$5,AA7:AA8) -> 0 | AB17: =DSUM('I сторінка'!$L$23:$Z$32,$AA$5,AB7:AB8) -> 0 | AC17: =DSUM('I сторінка'!$L$23:$Z$32,$AC$5,AC7:AC8) -> 0 | AD17: =DSUM('I сторінка'!$L$23:$Z$32,$AC$5,AD7:AD8) -> 0 | AE17: =C17+E17+G17+I17+K17+M17+O17+Q17+S17+U17+Y17+W17+AA17+AC17 -> 0 | AF17: =D17+F17+H17+J17+L17+N17+P17+R17+T17+V17+Z17+X17+AB17+AD17 -> 0 | AG17: =AE17+AF17 -> 0
B18: за лютий | AE18: =C18+E18+G18+I18+K18+M18+O18+Q18+S18+U18+Y18+W18+AA18+AC18 -> 0 | AF18: =D18+F18+H18+J18+L18+N18+P18+R18+T18+V18+Z18+X18+AB18+AD18 -> 0 | AG18: =AE18+AF18 -> 0
B19: за березень | AE19: =C19+E19+G19+I19+K19+M19+O19+Q19+S19+U19+Y19+W19+AA19+AC19 -> 0 | AF19: =D19+F19+H19+J19+L19+N19+P19+R19+T19+V19+Z19+X19+AB19+AD19 -> 0 | AG19: =AE19+AF19 -> 0
B20: за квітень | AE20: =C20+E20+G20+I20+K20+M20+O20+Q20+S20+U20+Y20+W20+AA20+AC20 -> 0 | AF20: =D20+F20+H20+J20+L20+N20+P20+R20+T20+V20+Z20+X20+AB20+AD20 -> 0 | AG20: =AE20+AF20 -> 0
B21: за травень | AE21: =C21+E21+G21+I21+K21+M21+O21+Q21+S21+U21+Y21+W21+AA21+AC21 -> 0 | AF21: =D21+F21+H21+J21+L21+N21+P21+R21+T21+V21+Z21+X21+AB21+AD21 -> 0 | AG21: =AE21+AF21 -> 0
B22: за червень | AE22: =C22+E22+G22+I22+K22+M22+O22+Q22+S22+U22+Y22+W22+AA22+AC22 -> 0 | AF22: =D22+F22+H22+J22+L22+N22+P22+R22+T22+V22+Z22+X22+AB22+AD22 -> 0 | AG22: =AE22+AF22 -> 0
B23: за липень | AE23: =C23+E23+G23+I23+K23+M23+O23+Q23+S23+U23+Y23+W23+AA23+AC23 -> 0 | AF23: =D23+F23+H23+J23+L23+N23+P23+R23+T23+V23+Z23+X23+AB23+AD23 -> 0 | AG23: =AE23+AF23 -> 0
A24: Разом | C24: =IF(SUM(C18:C23)=0,"",SUM(C18:C23)) | D24: =IF(SUM(D18:D23)=0,"",SUM(D18:D23)) | E24: =IF(SUM(E18:E23)=0,"",SUM(E18:E23)) | F24: =IF(SUM(F18:F23)=0,"",SUM(F18:F23)) | G24: =IF(SUM(G18:G23)=0,"",SUM(G18:G23)) | H24: =IF(SUM(H18:H23)=0,"",SUM(H18:H23)) | I24: =IF(SUM(I18:I23)=0,"",SUM(I18:I23)) | J24: =IF(SUM(J18:J23)=0,"",SUM(J18:J23)) | ... AD24: =IF(SUM(AD18:AD23)=0,"",SUM(AD18:AD23)) | AE24: =SUM(AE18:AE23) -> 0 | AF24: =SUM(AF18:AF23) -> 0 | AG24: =SUM(AG18:AG23) -> 0
A25: Виконано за навчальний рік | AE25: =AE16+AE24 -> 0 | AF25: =AF16+AF24 -> 0 | AG25: =AG16+AG24 -> 0
A26: Заплановано на навчальний рік | C26: =C17+C9 -> 0 | D26: =D17+D9 -> 0 | E26: =E17+E9 -> 0 | F26: =F17+F9 -> 0 | G26: =G17+G9 -> 0 | H26: =H17+H9 -> 0 | I26: =I17+I9 -> 0 | J26: =J17+J9 -> 0 | ... AD26: =AD17+AD9 -> 0 | AE26: =AE9+AE17 -> 0 | AF26: =AF9+AF17 -> 0 | AG26: =AG9+AG17 -> 0
B27: Зав.кафедрою | E27: ='I сторінка'!C35 -> Ім'я ПРІЗВИЩЕ | N27: Затверджено: | Q27: начальник навчального відділу Ольга ШУБІНА

Sheet II сторінка (без формул)
A1: Облік виконання навчального навантаження (науково-педагогічного / педагогічного) працівника за 2026 / 2027 н.р.
A2: ='I сторінка'!D7&","&" "&'I сторінка'!B4 -> ,
A3: (посада, прізвище та ініціали викладача)
A4: Семестр | B4: Виконання годин по місяцях | C4: Кількість запланованих годин за видами роботи
C5: ='I сторінка'!M12 -> лекції | E5: ='I сторінка'!N12 -> лабораторні (індивідуальні) заняття | G5: ='I сторінка'!O12 -> практичні, семінарські заняття | I5: ='I сторінка'!P12 -> консультації з самостійної роботи | K5: ='I сторінка'!Q12 -> курсові роботи | M5: ='I сторінка'!R12 -> заліки | O5: ='I сторінка'!S12 -> консультації перед екзаменом | Q5: ='I сторінка'!T12 -> екзамени | S5: ='I сторінка'!U12 -> кваліфікаційні роботи | U5: ='I сторінка'!V12 -> підсумкова атестація | W5: ='I сторінка'!W12 -> керівництво аспірантами | Y5: ='I сторінка'!X12 -> виробнича практика | AA5: ='I сторінка'!Y12 -> навчальна практика | AC5: ='I сторінка'!Z12 -> контрольні відвідування | AE5: разом | AG5: Всього
AE6: денна форма здобуття освіти | AF6: заочна форма здобуття освіти
C7: Форма здобуття освіти (денна, заочна) | D7: Форма здобуття освіти (денна, заочна) | E7: Форма здобуття освіти (денна, заочна) | F7: Форма здобуття освіти (денна, заочна) | G7: Форма здобуття освіти (денна, заочна) | H7: Форма здобуття освіти (денна, заочна) | I7: Форма здобуття освіти (денна, заочна) | J7: Форма здобуття освіти (денна, заочна) | K7: Форма здобуття освіти (денна, заочна) | L7: Форма здобуття освіти (денна, заочна) | M7: Форма здобуття освіти (денна, заочна) | N7: Форма здобуття освіти (денна, заочна) | O7: Форма здобуття освіти (денна, заочна) | P7: Форма здобуття освіти (денна, заочна) | Q7: Форма здобуття освіти (денна, заочна) | R7: Форма здобуття освіти (денна, заочна) | S7: Форма здобуття освіти (денна, заочна) | T7: Форма здобуття освіти (денна, заочна) | U7: Форма здобуття освіти (денна, заочна) | V7: Форма здобуття освіти (денна, заочна) | W7: Форма здобуття освіти (денна, заочна) | X7: Форма здобуття освіти (денна, заочна) | Y7: Форма здобуття освіти (денна, заочна) | Z7: Форма здобуття освіти (денна, заочна) | AA7: Форма здобуття освіти (денна, заочна) | AB7: Форма здобуття освіти (денна, заочна) | AC7: Форма здобуття освіти (денна, заочна) | AD7: Форма здобуття освіти (денна, заочна)
C8: д | D8: з | E8: д | F8: з | G8: д | H8: з | I8: д | J8: з | K8: д | L8: з | M8: д | N8: з | O8: д | P8: з | Q8: д | R8: з | S8: д | T8: з | U8: д | V8: з | W8: д | X8: з | Y8: д | Z8: з | AA8: д | AB8: з | AC8: д | AD8: з
A9: І | B9: Заплановано на І півріччя
B10: за серпень | AE10: =C10+E10+G10+I10+K10+M10+O10+Q10+S10+U10+Y10+W10+AA10+AC10 -> 0 | AF10: =D10+F10+H10+J10+L10+N10+P10+R10+T10+V10+Z10+X10+AB10+AD10 -> 0 | AG10: =AE10+AF10 -> 0
B11: за вересень | AE11: =C11+E11+G11+I11+K11+M11+O11+Q11+S11+U11+Y11+W11+AA11+AC11 -> 0 | AF11: =D11+F11+H11+J11+L11+N11+P11+R11+T11+V11+Z11+X11+AB11+AD11 -> 0 | AG11: =AE11+AF11 -> 0
B12: за жовтень | AE12: =C12+E12+G12+I12+K12+M12+O12+Q12+S12+U12+Y12+W12+AA12+AC12 -> 0 | AF12: =D12+F12+H12+J12+L12+N12+P12+R12+T12+V12+Z12+X12+AB12+AD12 -> 0 | AG12: =AE12+AF12 -> 0
B13: за листопад | AE13: =C13+E13+G13+I13+K13+M13+O13+Q13+S13+U13+Y13+W13+AA13+AC13 -> 0 | AF13: =D13+F13+H13+J13+L13+N13+P13+R13+T13+V13+Z13+X13+AB13+AD13 -> 0 | AG13: =AE13+AF13 -> 0
B14: за грудень | AE14: =C14+E14+G14+I14+K14+M14+O14+Q14+S14+U14+Y14+W14+AA14+AC14 -> 0 | AF14: =D14+F14+H14+J14+L14+N14+P14+R14+T14+V14+Z14+X14+AB14+AD14 -> 0 | AG14: =AE14+AF14 -> 0
B15: за січень | AE15: =C15+E15+G15+I15+K15+M15+O15+Q15+S15+U15+Y15+W15+AA15+AC15 -> 0 | AF15: =D15+F15+H15+J15+L15+N15+P15+R15+T15+V15+Z15+X15+AB15+AD15 -> 0 | AG15: =AE15+AF15 -> 0
A16: Разом | C16: =IF(SUM(C10:C15)=0,"",SUM(C10:C15)) | D16: =IF(SUM(D10:D15)=0,"",SUM(D10:D15)) | E16: =IF(SUM(E10:E15)=0,"",SUM(E10:E15)) | F16: =IF(SUM(F10:F15)=0,"",SUM(F10:F15)) | G16: =IF(SUM(G10:G15)=0,"",SUM(G10:G15)) | H16: =IF(SUM(H10:H15)=0,"",SUM(H10:H15)) | I16: =IF(SUM(I10:I15)=0,"",SUM(I10:I15)) | J16: =IF(SUM(J10:J15)=0,"",SUM(J10:J15)) | ... AD16: =IF(SUM(AD10:AD15)=0,"",SUM(AD10:AD15)) | AE16: =SUM(AE10:AE15) -> 0 | AF16: =SUM(AF10:AF15) -> 0 | AG16: =SUM(AG10:AG15) -> 0
A17: ІІ | B17: Заплановано на ІІ півріччя
B18: за лютий | AE18: =C18+E18+G18+I18+K18+M18+O18+Q18+S18+U18+Y18+W18+AA18+AC18 -> 0 | AF18: =D18+F18+H18+J18+L18+N18+P18+R18+T18+V18+Z18+X18+AB18+AD18 -> 0 | AG18: =AE18+AF18 -> 0
B19: за березень | AE19: =C19+E19+G19+I19+K19+M19+O19+Q19+S19+U19+Y19+W19+AA19+AC19 -> 0 | AF19: =D19+F19+H19+J19+L19+N19+P19+R19+T19+V19+Z19+X19+AB19+AD19 -> 0 | AG19: =AE19+AF19 -> 0
B20: за квітень | AE20: =C20+E20+G20+I20+K20+M20+O20+Q20+S20+U20+Y20+W20+AA20+AC20 -> 0 | AF20: =D20+F20+H20+J20+L20+N20+P20+R20+T20+V20+Z20+X20+AB20+AD20 -> 0 | AG20: =AE20+AF20 -> 0
B21: за травень | AE21: =C21+E21+G21+I21+K21+M21+O21+Q21+S21+U21+Y21+W21+AA21+AC21 -> 0 | AF21: =D21+F21+H21+J21+L21+N21+P21+R21+T21+V21+Z21+X21+AB21+AD21 -> 0 | AG21: =AE21+AF21 -> 0
B22: за червень | AE22: =C22+E22+G22+I22+K22+M22+O22+Q22+S22+U22+Y22+W22+AA22+AC22 -> 0 | AF22: =D22+F22+H22+J22+L22+N22+P22+R22+T22+V22+Z22+X22+AB22+AD22 -> 0 | AG22: =AE22+AF22 -> 0
B23: за липень | AE23: =C23+E23+G23+I23+K23+M23+O23+Q23+S23+U23+Y23+W23+AA23+AC23 -> 0 | AF23: =D23+F23+H23+J23+L23+N23+P23+R23+T23+V23+Z23+X23+AB23+AD23 -> 0 | AG23: =AE23+AF23 -> 0
A24: Разом | C24: =IF(SUM(C18:C23)=0,"",SUM(C18:C23)) | D24: =IF(SUM(D18:D23)=0,"",SUM(D18:D23)) | E24: =IF(SUM(E18:E23)=0,"",SUM(E18:E23)) | F24: =IF(SUM(F18:F23)=0,"",SUM(F18:F23)) | G24: =IF(SUM(G18:G23)=0,"",SUM(G18:G23)) | H24: =IF(SUM(H18:H23)=0,"",SUM(H18:H23)) | I24: =IF(SUM(I18:I23)=0,"",SUM(I18:I23)) | J24: =IF(SUM(J18:J23)=0,"",SUM(J18:J23)) | ... AD24: =IF(SUM(AD18:AD23)=0,"",SUM(AD18:AD23)) | AE24: =SUM(AE18:AE23) -> 0 | AF24: =SUM(AF18:AF23) -> 0 | AG24: =SUM(AG18:AG23) -> 0
A25: Виконано за навчальний рік | AE25: =AE24+AE16 -> 0 | AF25: =AF24+AF16 -> 0 | AG25: =SUM(AG18:AG23) -> 0
A26: Заплановано на навчальний рік
B27: Зав.кафедрою | E27: ='I сторінка'!C35 -> Ім'я ПРІЗВИЩЕ | N27: Затверджено: | Q27: начальник навчального відділу Ольга ШУБІНА

Sheet 1 сторінка 1 семестр
A1: Бердянський державний педагогічний університет
A2: Картка навчального навантаження на 2026-2027 навчальний рік | T2: Годин за планом | X2: 600 | AA2: 1 | AC2: ст.
I3: кафедра | T3: Затверджено наказом № ______ по університету
A4: прізвище, ім'я, по батькові | T4: від | U4: ''____'' ______________20__ р.
T5: ПОГОДЖЕНО:
T6: Декан | V6: Ім'я ПРІЗВИЩЕ
A7: (вчений ступінь, звання) | D7: (посада) | L7: штатний/сумісник | T7: Декан | V7: Ім'я ПРІЗВИЩЕ
A9: Семестр | B9: Назва освітньої компоненти, виду навчальної діяльності | C9: Спеціальність (факультет) | D9: Курс | E9: Кількість студентів, аспірантів | F9: Шифр груп | I9: Кількість | M9: Кількість запланованих годин за видами роботи
I10: груп | J10: підгруп | K10: потоків | L10: Форма здобуття освіти (денна, заочна) | M10: лекції | N10: практичні, семінарські заняття | O10: лабораторні (індивідуальні) заняття | P10: консультації з самостійної роботи | Q10: курсові роботи | R10: заліки | S10: консультації перед екзаменом | T10: екзамени | U10: підсумкова атестація | V10: кваліфікаційні роботи | W10: навчальна практика | X10: виробнича практика | Y10: керівництво аспірантами | Z10: контрольні відвідування | AA10: разом | AC10: Всього
AA11: денна форма здобуття освіти | AB11: заочна форма здобуття освіти
A12: І | AA12: =IF(L12="д",SUM(M12:Z12),"") | AB12: =IF(L12="з",SUM(M12:Z12),"") | AC12: =IF(SUM(M12:Z12)=0,"",SUM(M12:Z12))
AA13: =IF(L13="д",SUM(M13:Z13),"") | AB13: =IF(L13="з",SUM(M13:Z13),"") | AC13: =IF(SUM(M13:Z13)=0,"",SUM(M13:Z13))
AA14: =IF(L14="д",SUM(M14:Z14),"") | AB14: =IF(L14="з",SUM(M14:Z14),"") | AC14: =IF(SUM(M14:Z14)=0,"",SUM(M14:Z14))
AA15: =IF(L15="д",SUM(M15:Z15),"") | AB15: =IF(L15="з",SUM(M15:Z15),"") | AC15: =IF(SUM(M15:Z15)=0,"",SUM(M15:Z15))
AA19: =IF(L19="д",SUM(M19:Z19),"") | AB19: =IF(L19="з",SUM(M19:Z19),"") | AC19: =IF(SUM(M19:Z19)=0,"",SUM(M19:Z19))
AA20: =IF(L20="д",SUM(M20:Z20),"") | AB20: =IF(L20="з",SUM(M20:Z20),"") | AC20: =IF(SUM(M20:Z20)=0,"",SUM(M20:Z20))
AA21: =IF(L21="д",SUM(M21:Z21),"") | AB21: =IF(L21="з",SUM(M21:Z21),"") | AC21: =IF(SUM(M21:Z21)=0,"",SUM(M21:Z21))
AA22: =IF(L22="д",SUM(M22:Z22),"") | AB22: =IF(L22="з",SUM(M22:Z22),"") | AC22: =IF(SUM(M22:Z22)=0,"",SUM(M22:Z22))
A23: Разом годин на І семестр | M23: =IF(SUM(M12:M22)=0,"",SUM(M12:M22)) | N23: =IF(SUM(N12:N22)=0,"",SUM(N12:N22)) | O23: =IF(SUM(O12:O22)=0,"",SUM(O12:O22)) | P23: =IF(SUM(P12:P22)=0,"",SUM(P12:P22)) | Q23: =IF(SUM(Q12:Q22)=0,"",SUM(Q12:Q22)) | R23: =IF(SUM(R12:R22)=0,"",SUM(R12:R22)) | S23: =IF(SUM(S12:S22)=0,"",SUM(S12:S22)) | T23: =IF(SUM(T12:T22)=0,"",SUM(T12:T22)) | ... AC23: =IF(SUM(AC12:AC22)=0,"",SUM(AC12:AC22))
L24: Форма здобуття освіти (денна, заочна) | M24: лекції | N24: практичні, семінарські заняття | O24: лабораторні (індивідуальні) заняття | P24: консультації з самостійної роботи | Q24: курсові роботи | R24: заліки | S24: консультації перед екзаменом | T24: екзамени | U24: підсумкова атестація | V24: кваліфікаційні роботи | W24: навчальна практика | X24: виробнича практика | Y24: керівництво аспірантами | Z24: контрольні відвідування
B26: Зав.кафедрою | C26: Ім'я ПРІЗВИЩЕ | Q26: Викладач | R26: =B3 -> 0
